BEGIN:VCALENDAR
VERSION:2.0
PRODID:-//ddaysoftware.com//NONSGML DDay.iCal 1.0//EN
BEGIN:VTIMEZONE
TZID:W. Europe Standard Time
BEGIN:STANDARD
DTSTART:20251002T030000
RRULE:FREQ=YEARLY;BYDAY=-1SU;BYHOUR=3;BYMINUTE=0;BYMONTH=10
TZNAME:Mitteleuropäische Zeit
TZOFFSETFROM:+0200
TZOFFSETTO:+0100
END:STANDARD
BEGIN:DAYLIGHT
DTSTART:20250301T020000
RRULE:FREQ=YEARLY;BYDAY=-1SU;BYHOUR=2;BYMINUTE=0;BYMONTH=3
TZNAME:Mitteleuropäische Sommerzeit
TZOFFSETFROM:+0100
TZOFFSETTO:+0200
END:DAYLIGHT
END:VTIMEZONE
BEGIN:VEVENT
CATEGORIES:Versammlung\, Vortrag
DESCRIPTION:\n\nVeranstalter: PSAG Untermain\n\nhttps://www.psag-untermain.
 de/wir-ueber-uns/veranstaltungen/uak-psychosoziale-versorgung-und-zuwander
 ung-3/
DTEND:20261007T160000
DTSTAMP:20260419T221534Z
DTSTART:20261007T150000
LOCATION:Migranten für Migranten e.V.: Kolbornstraße 10\, 63739 Aschaffenbu
 rg
SEQUENCE:0
SUMMARY:UAK Psychosoziale Versorgung und Zuwanderung
UID:168307
URL:https://www.psag-untermain.de/wir-ueber-uns/veranstaltungen/uak-psychos
 oziale-versorgung-und-zuwanderung-3/
END:VEVENT
END:VCALENDAR
