BEGIN:VCALENDAR
VERSION:2.0
PRODID:-//ddaysoftware.com//NONSGML DDay.iCal 1.0//EN
BEGIN:VTIMEZONE
TZID:W. Europe Standard Time
BEGIN:STANDARD
DTSTART:20251002T030000
RRULE:FREQ=YEARLY;BYDAY=-1SU;BYHOUR=3;BYMINUTE=0;BYMONTH=10
TZNAME:Mitteleuropäische Zeit
TZOFFSETFROM:+0200
TZOFFSETTO:+0100
END:STANDARD
BEGIN:DAYLIGHT
DTSTART:20250301T020000
RRULE:FREQ=YEARLY;BYDAY=-1SU;BYHOUR=2;BYMINUTE=0;BYMONTH=3
TZNAME:Mitteleuropäische Sommerzeit
TZOFFSETFROM:+0100
TZOFFSETTO:+0200
END:DAYLIGHT
END:VTIMEZONE
BEGIN:VEVENT
CATEGORIES:Versammlung\, Vortrag
DESCRIPTION:\n\nVeranstalter: PSAG Untermain\n\nhttps://www.psag-untermain.
 de/wir-ueber-uns/veranstaltungen/ak-psychische-gesundheit-von-kindern-und-
 jugendlichen-4/
DTEND:20260508T153000
DTSTAMP:20260420T093009Z
DTSTART:20260508T143000
LOCATION:Landratsamt Aschaffenburg: Bayernstraße 18\, 63739 Aschaffenburg
SEQUENCE:0
SUMMARY:AK Psychische Gesundheit von Kindern und Jugendlichen
UID:168160
URL:https://www.psag-untermain.de/wir-ueber-uns/veranstaltungen/ak-psychisc
 he-gesundheit-von-kindern-und-jugendlichen-4/
END:VEVENT
END:VCALENDAR
