BEGIN:VCALENDAR
VERSION:2.0
PRODID:-//ddaysoftware.com//NONSGML DDay.iCal 1.0//EN
BEGIN:VTIMEZONE
TZID:W. Europe Standard Time
BEGIN:STANDARD
DTSTART:20251002T030000
RRULE:FREQ=YEARLY;BYDAY=-1SU;BYHOUR=3;BYMINUTE=0;BYMONTH=10
TZNAME:Mitteleuropäische Zeit
TZOFFSETFROM:+0200
TZOFFSETTO:+0100
END:STANDARD
BEGIN:DAYLIGHT
DTSTART:20250301T020000
RRULE:FREQ=YEARLY;BYDAY=-1SU;BYHOUR=2;BYMINUTE=0;BYMONTH=3
TZNAME:Mitteleuropäische Sommerzeit
TZOFFSETFROM:+0100
TZOFFSETTO:+0200
END:DAYLIGHT
END:VTIMEZONE
BEGIN:VEVENT
CATEGORIES:Versammlung\, Vortrag
DESCRIPTION:\n\nVeranstalter: PSAG Untermain\n\nhttps://www.psag-untermain.
 de/wir-ueber-uns/veranstaltungen/ak-gerontopsychiatrie-4/
DTEND:20260504T150000
DTSTAMP:20260420T093722Z
DTSTART:20260504T140000
LOCATION:Kursana Domizil Mömbris: Pfarrer-Wörner-Str. 7\, 63776 Mömbris
SEQUENCE:0
SUMMARY:AK Gerontopsychiatrie
UID:168271
URL:https://www.psag-untermain.de/wir-ueber-uns/veranstaltungen/ak-gerontop
 sychiatrie-4/
END:VEVENT
END:VCALENDAR
